BEGIN:VCALENDAR
VERSION:2.0
PRODID:-//Hatch Creatives - ECPv6.15.20//NONSGML v1.0//EN
CALSCALE:GREGORIAN
METHOD:PUBLISH
X-ORIGINAL-URL:https://hatchcreatives.com
X-WR-CALDESC:Events for Hatch Creatives
REFRESH-INTERVAL;VALUE=DURATION:PT1H
X-Robots-Tag:noindex
X-PUBLISHED-TTL:PT1H
BEGIN:VTIMEZONE
TZID:America/New_York
BEGIN:DAYLIGHT
TZOFFSETFROM:-0500
TZOFFSETTO:-0400
TZNAME:EDT
DTSTART:20180311T070000
END:DAYLIGHT
BEGIN:STANDARD
TZOFFSETFROM:-0400
TZOFFSETTO:-0500
TZNAME:EST
DTSTART:20181104T060000
END:STANDARD
BEGIN:DAYLIGHT
TZOFFSETFROM:-0500
TZOFFSETTO:-0400
TZNAME:EDT
DTSTART:20190310T070000
END:DAYLIGHT
BEGIN:STANDARD
TZOFFSETFROM:-0400
TZOFFSETTO:-0500
TZNAME:EST
DTSTART:20191103T060000
END:STANDARD
BEGIN:DAYLIGHT
TZOFFSETFROM:-0500
TZOFFSETTO:-0400
TZNAME:EDT
DTSTART:20200308T070000
END:DAYLIGHT
BEGIN:STANDARD
TZOFFSETFROM:-0400
TZOFFSETTO:-0500
TZNAME:EST
DTSTART:20201101T060000
END:STANDARD
END:VTIMEZONE
BEGIN:VEVENT
DTSTART;TZID=America/New_York:20190126T190000
DTEND;TZID=America/New_York:20190126T210000
DTSTAMP:20260421T233631
CREATED:20190103T004454Z
LAST-MODIFIED:20190103T203443Z
UID:1112-1548529200-1548536400@hatchcreatives.com
SUMMARY:January Event
DESCRIPTION:Throw some confetti for one year of Hatch!\nWe’re celebrating our one year anniversary and we want you there! If you’ve attended a past event\, all 12\, or none at all\, we invite you to party with us and ring in a new year of Hatch! We’ll be serving up appetizers\, drinks\, and other surprise treats! Take pix at our photo booth wall and interactive dream wall. Katy Mills\, Communications Director of Calvary Chapel Fort Lauderdale will be speaking to us on the power and importance of pursuing your dreams for 2019! \n  \nEvent DetailsDate: Saturday\, January 26\, 2018\nTime: 7pm-9:30pm\nLocation: ORA Flagler Village Apartments  \nRegistration
URL:https://hatchcreatives.com/event/january-event/
LOCATION:ORA Flagler Village\, 673 NE 3rd Ave\, Fort Lauderdale\, FL\, 33304\, United States
CATEGORIES:Hatch Monthly
ATTACH;FMTTYPE=image/jpeg:https://hatchcreatives.com/wp-content/uploads/2019/01/01-Gold-Confetti-e1546475154596.jpg
ORGANIZER;CN="Hatch Creatives":MAILTO:laura@hatchcreatives.com
END:VEVENT
END:VCALENDAR