BEGIN:VCALENDAR
VERSION:2.0
PRODID:-//Hatch Creatives - ECPv6.15.20//NONSGML v1.0//EN
CALSCALE:GREGORIAN
METHOD:PUBLISH
X-WR-CALNAME:Hatch Creatives
X-ORIGINAL-URL:https://hatchcreatives.com
X-WR-CALDESC:Events for Hatch Creatives
REFRESH-INTERVAL;VALUE=DURATION:PT1H
X-Robots-Tag:noindex
X-PUBLISHED-TTL:PT1H
BEGIN:VTIMEZONE
TZID:America/New_York
BEGIN:DAYLIGHT
TZOFFSETFROM:-0500
TZOFFSETTO:-0400
TZNAME:EDT
DTSTART:20180311T070000
END:DAYLIGHT
BEGIN:STANDARD
TZOFFSETFROM:-0400
TZOFFSETTO:-0500
TZNAME:EST
DTSTART:20181104T060000
END:STANDARD
BEGIN:DAYLIGHT
TZOFFSETFROM:-0500
TZOFFSETTO:-0400
TZNAME:EDT
DTSTART:20190310T070000
END:DAYLIGHT
BEGIN:STANDARD
TZOFFSETFROM:-0400
TZOFFSETTO:-0500
TZNAME:EST
DTSTART:20191103T060000
END:STANDARD
BEGIN:DAYLIGHT
TZOFFSETFROM:-0500
TZOFFSETTO:-0400
TZNAME:EDT
DTSTART:20200308T070000
END:DAYLIGHT
BEGIN:STANDARD
TZOFFSETFROM:-0400
TZOFFSETTO:-0500
TZNAME:EST
DTSTART:20201101T060000
END:STANDARD
END:VTIMEZONE
BEGIN:VEVENT
DTSTART;TZID=America/New_York:20190215T190000
DTEND;TZID=America/New_York:20190215T210000
DTSTAMP:20260421T215549
CREATED:20190204T040344Z
LAST-MODIFIED:20190205T153023Z
UID:1127-1550257200-1550264400@hatchcreatives.com
SUMMARY:February Event
DESCRIPTION:Brainstorming Babes\nBrainstorming isn’t so much about the room you’re in\, at what time and for how long you brainstorm\, or whether you are with people or alone. It’s about making connections between inputs and inspiration that leads to problem solving and new ideas.  Good input and inspiration feed the best brainstorming sessions that ultimately lead problems solved and ideas defined. \nTogether\, we will identify great input and inspirational sources to spark new ideas\, as well as\, collaborate together through facilitated brainstorming activities. \nThis month marks our favorite holiday (Galentine’s Day)\, so we’ll be serving up a fondue bar and other Galentine’s treats! \nMeet Our Instructor\, Jenn Brown:\nJenn is the Strategy Lead at an international non-profit\, specializing in partnership development and strategic planning\, and consulting with global leaders to fulfill the vision for their region. When not creating frameworks and studying Ancient languages\, she lives out her life motto – “Eat the things. Buy the things. Do the things.” \n  \nEvent DetailsDate: Friday\, February 15\, 2018\nTime: 7pm-9pm\nLocation: Lakes at Boca Rio Clubhouse \nRegistration
URL:https://hatchcreatives.com/event/february-event/
LOCATION:Lakes at Boca Rio\, 8170 Boca Rio Drive\, Boca Raton\, FL\, 33433\, United States
CATEGORIES:Hatch Monthly
ATTACH;FMTTYPE=image/jpeg:https://hatchcreatives.com/wp-content/uploads/2019/02/feb-pge-header.jpg
ORGANIZER;CN="Hatch Creatives":MAILTO:laura@hatchcreatives.com
END:VEVENT
END:VCALENDAR