BEGIN:VCALENDAR
VERSION:2.0
PRODID:-//Hatch Creatives - ECPv6.15.20//NONSGML v1.0//EN
CALSCALE:GREGORIAN
METHOD:PUBLISH
X-ORIGINAL-URL:https://hatchcreatives.com
X-WR-CALDESC:Events for Hatch Creatives
REFRESH-INTERVAL;VALUE=DURATION:PT1H
X-Robots-Tag:noindex
X-PUBLISHED-TTL:PT1H
BEGIN:VTIMEZONE
TZID:America/New_York
BEGIN:DAYLIGHT
TZOFFSETFROM:-0500
TZOFFSETTO:-0400
TZNAME:EDT
DTSTART:20170312T070000
END:DAYLIGHT
BEGIN:STANDARD
TZOFFSETFROM:-0400
TZOFFSETTO:-0500
TZNAME:EST
DTSTART:20171105T060000
END:STANDARD
BEGIN:DAYLIGHT
TZOFFSETFROM:-0500
TZOFFSETTO:-0400
TZNAME:EDT
DTSTART:20180311T070000
END:DAYLIGHT
BEGIN:STANDARD
TZOFFSETFROM:-0400
TZOFFSETTO:-0500
TZNAME:EST
DTSTART:20181104T060000
END:STANDARD
BEGIN:DAYLIGHT
TZOFFSETFROM:-0500
TZOFFSETTO:-0400
TZNAME:EDT
DTSTART:20190310T070000
END:DAYLIGHT
BEGIN:STANDARD
TZOFFSETFROM:-0400
TZOFFSETTO:-0500
TZNAME:EST
DTSTART:20191103T060000
END:STANDARD
END:VTIMEZONE
BEGIN:VEVENT
DTSTART;TZID=America/New_York:20181117T100000
DTEND;TZID=America/New_York:20181117T120000
DTSTAMP:20260422T050459
CREATED:20181104T152842Z
LAST-MODIFIED:20190107T163331Z
UID:991-1542448800-1542456000@hatchcreatives.com
SUMMARY:November Event
DESCRIPTION:Hatchgiving: Setting the Table\nThe holiday season is upon us\, and we want to celebrate with you! Join us for brunch\, Thanksgiving-style\, with all your holiday favorites turned into brunch dishes. We’ll hear from Michelle Hopper\, Cafe Leader at Blue Bottle Coffee\, on how she prepares tables and settings to create warm and welcoming events for friends and family. \nEvent DetailsDate: November 17\, 2018\nTime: 10am-noon\nSpeaker: Michelle Hopper\nLocation: Private Residence \nRegistration
URL:https://hatchcreatives.com/event/november-event/
LOCATION:Private Residence\, address will be sent upon ticket purchase\, Coral Springs\, Florida
CATEGORIES:Hatch Monthly
ATTACH;FMTTYPE=image/jpeg:https://hatchcreatives.com/wp-content/uploads/2018/11/desktop_florals_web.jpg
ORGANIZER;CN="Laura Botu":MAILTO:laura@hatchcreatives.com
END:VEVENT
END:VCALENDAR