BEGIN:VCALENDAR
VERSION:2.0
PRODID:-//Hatch Creatives - ECPv6.15.20//NONSGML v1.0//EN
CALSCALE:GREGORIAN
METHOD:PUBLISH
X-ORIGINAL-URL:https://hatchcreatives.com
X-WR-CALDESC:Events for Hatch Creatives
REFRESH-INTERVAL;VALUE=DURATION:PT1H
X-Robots-Tag:noindex
X-PUBLISHED-TTL:PT1H
BEGIN:VTIMEZONE
TZID:America/New_York
BEGIN:DAYLIGHT
TZOFFSETFROM:-0500
TZOFFSETTO:-0400
TZNAME:EDT
DTSTART:20170312T070000
END:DAYLIGHT
BEGIN:STANDARD
TZOFFSETFROM:-0400
TZOFFSETTO:-0500
TZNAME:EST
DTSTART:20171105T060000
END:STANDARD
BEGIN:DAYLIGHT
TZOFFSETFROM:-0500
TZOFFSETTO:-0400
TZNAME:EDT
DTSTART:20180311T070000
END:DAYLIGHT
BEGIN:STANDARD
TZOFFSETFROM:-0400
TZOFFSETTO:-0500
TZNAME:EST
DTSTART:20181104T060000
END:STANDARD
BEGIN:DAYLIGHT
TZOFFSETFROM:-0500
TZOFFSETTO:-0400
TZNAME:EDT
DTSTART:20190310T070000
END:DAYLIGHT
BEGIN:STANDARD
TZOFFSETFROM:-0400
TZOFFSETTO:-0500
TZNAME:EST
DTSTART:20191103T060000
END:STANDARD
END:VTIMEZONE
BEGIN:VEVENT
DTSTART;TZID=America/New_York:20181201T093000
DTEND;TZID=America/New_York:20181201T113000
DTSTAMP:20260422T031255
CREATED:20181118T182333Z
LAST-MODIFIED:20190107T163335Z
UID:1008-1543656600-1543663800@hatchcreatives.com
SUMMARY:December Event
DESCRIPTION:Namast’ay Stress-Free This Holiday\nCome hang with Hatch and Nina from Seas The Yoga at the beautiful Lighthouse Point Yacht Club to start the season off stress-free\, with a fun and relaxing yoga class. All levels are welcome and no yoga experience is necessary. All participants will receive a holiday scented aromatherapy bottle and Seas The Yoga hair tie. We will also have a raffle giveaway after class while sipping on Christmas mimosas and enjoying Florida’s beautiful winter weather. Bring your yoga mat\, water and a smile. Sea you on the mat! \nAbout our instructor\, Nina:\nNina has been a Yogi for almost 10 years. She found yoga as a last resort to help with anxiety and physical pain. Teaching yoga and helping others find movement\, get healthy and feel comfortable in their own skin is her biggest passion. At Seas The Yoga we help you to “Seas The Good – In Yourself\, In Others & In The World.” \n  \nEvent DetailsDate: Saturday\, December 1\, 2018\nTime: 9:30am-11:30am\nInstructor: Nina Pechonis\nLocation: Lighthouse Point Yacht Club  \nRegistration
URL:https://hatchcreatives.com/event/december-event/
LOCATION:ORA Flagler Village Apartments\, 673 NE 3rd Ave\, Fort Lauderdale\, FL\, 33304\, United States
CATEGORIES:Hatch Monthly
ATTACH;FMTTYPE=image/jpeg:https://hatchcreatives.com/wp-content/uploads/2018/11/Peace_1_MJ.jpg
ORGANIZER;CN="Laura Botu":MAILTO:laura@hatchcreatives.com
END:VEVENT
END:VCALENDAR