BEGIN:VCALENDAR
VERSION:2.0
PRODID:-//Hatch Creatives - ECPv6.15.20//NONSGML v1.0//EN
CALSCALE:GREGORIAN
METHOD:PUBLISH
X-WR-CALNAME:Hatch Creatives
X-ORIGINAL-URL:https://hatchcreatives.com
X-WR-CALDESC:Events for Hatch Creatives
REFRESH-INTERVAL;VALUE=DURATION:PT1H
X-Robots-Tag:noindex
X-PUBLISHED-TTL:PT1H
BEGIN:VTIMEZONE
TZID:America/New_York
BEGIN:DAYLIGHT
TZOFFSETFROM:-0500
TZOFFSETTO:-0400
TZNAME:EDT
DTSTART:20180311T070000
END:DAYLIGHT
BEGIN:STANDARD
TZOFFSETFROM:-0400
TZOFFSETTO:-0500
TZNAME:EST
DTSTART:20181104T060000
END:STANDARD
BEGIN:DAYLIGHT
TZOFFSETFROM:-0500
TZOFFSETTO:-0400
TZNAME:EDT
DTSTART:20190310T070000
END:DAYLIGHT
BEGIN:STANDARD
TZOFFSETFROM:-0400
TZOFFSETTO:-0500
TZNAME:EST
DTSTART:20191103T060000
END:STANDARD
BEGIN:DAYLIGHT
TZOFFSETFROM:-0500
TZOFFSETTO:-0400
TZNAME:EDT
DTSTART:20200308T070000
END:DAYLIGHT
BEGIN:STANDARD
TZOFFSETFROM:-0400
TZOFFSETTO:-0500
TZNAME:EST
DTSTART:20201101T060000
END:STANDARD
END:VTIMEZONE
BEGIN:VEVENT
DTSTART;TZID=America/New_York:20190315T190000
DTEND;TZID=America/New_York:20190315T210000
DTSTAMP:20260421T220301
CREATED:20190224T193023Z
LAST-MODIFIED:20190717T221308Z
UID:1282-1552676400-1552683600@hatchcreatives.com
SUMMARY:March Event
DESCRIPTION:The Importance of Mentorship\nWe all\, in one way or another\, grow and thrive in relationships. Yet\, the temptation of independence can keep us away from some of the most pivotal and necessary seasons of our lives. As we explore mentorship and accountability we’ll gain some new tools to be strengthened\, while meeting new friends over a great cup of coffee and speed friend-dating! \nOur friends at Mane Coffee will be serving up their full espresso bar and amazing menu of toasts (homemade bread makes everything better)! Your first drink order and all toasts are included in the ticket price. \nMeet Our Speaker\, Adonis! \n \nAdonis was born in Los Angeles\, California\, attended Chaffey College and pursued a career in Performing Arts. She had the privilege of working for the Disneyland Resort in California for 15 years as a performer\, events planner and in 2006 Adonis was selected  to represent the company as the Disneyland Resort Ambassador.  In 2010 Adonis began her journey at Calvary Chapel Fort Lauderdale pursuing her of passion of faith in Jesus Christ while growing in the art of mentorship/discipleship opportunities. \n  \nEvent DetailsDate: Friday\, March 15\, 2018\nTime: 7pm-9pm\nLocation: Mane Coffee \nRegistration
URL:https://hatchcreatives.com/event/march-event/
LOCATION:Mane Coffee\, 500 NE Spanish River Blvd Suite 7\, Boca Raton\, FL\, 33431\, United States
CATEGORIES:Hatch Monthly
ATTACH;FMTTYPE=image/jpeg:https://hatchcreatives.com/wp-content/uploads/2019/02/march-pge-header.jpg
ORGANIZER;CN="Hatch Creatives":MAILTO:laura@hatchcreatives.com
END:VEVENT
END:VCALENDAR