BEGIN:VCALENDAR
VERSION:2.0
PRODID:-//Hatch Creatives - ECPv6.15.20//NONSGML v1.0//EN
CALSCALE:GREGORIAN
METHOD:PUBLISH
X-WR-CALNAME:Hatch Creatives
X-ORIGINAL-URL:https://hatchcreatives.com
X-WR-CALDESC:Events for Hatch Creatives
REFRESH-INTERVAL;VALUE=DURATION:PT1H
X-Robots-Tag:noindex
X-PUBLISHED-TTL:PT1H
BEGIN:VTIMEZONE
TZID:America/New_York
BEGIN:DAYLIGHT
TZOFFSETFROM:-0500
TZOFFSETTO:-0400
TZNAME:EDT
DTSTART:20180311T070000
END:DAYLIGHT
BEGIN:STANDARD
TZOFFSETFROM:-0400
TZOFFSETTO:-0500
TZNAME:EST
DTSTART:20181104T060000
END:STANDARD
BEGIN:DAYLIGHT
TZOFFSETFROM:-0500
TZOFFSETTO:-0400
TZNAME:EDT
DTSTART:20190310T070000
END:DAYLIGHT
BEGIN:STANDARD
TZOFFSETFROM:-0400
TZOFFSETTO:-0500
TZNAME:EST
DTSTART:20191103T060000
END:STANDARD
BEGIN:DAYLIGHT
TZOFFSETFROM:-0500
TZOFFSETTO:-0400
TZNAME:EDT
DTSTART:20200308T070000
END:DAYLIGHT
BEGIN:STANDARD
TZOFFSETFROM:-0400
TZOFFSETTO:-0500
TZNAME:EST
DTSTART:20201101T060000
END:STANDARD
END:VTIMEZONE
BEGIN:VEVENT
DTSTART;TZID=America/New_York:20190615T090000
DTEND;TZID=America/New_York:20190615T130000
DTSTAMP:20260421T162909
CREATED:20190505T223851Z
LAST-MODIFIED:20190505T224821Z
UID:1441-1560589200-1560603600@hatchcreatives.com
SUMMARY:June Event
DESCRIPTION:Join us for a morning full of fun and beneficial content to boost your biz! Enjoy an inspiring talk from our keynote speaker\, Ayana Lage\, breakout sessions on video development and social media from Emily Frias and Cortney Gurr. Hang out with other Hatch gals during our networking time and lunch to close out the day. Check out the details on our session topics and speaker bios: \nKEYNOTE: Enhancing Your Online Presence\nAyana Lage \nWorn out as you try to build your email list\, beat the Instagram algorithm\, stay hydrated and not lose your mind? If you feel drained at the thought of building your personal brand\, you aren’t alone — but it doesn’t have to be soul-sucking. We’re going to explore how to supercharge your online presence without feeling mega-drained in the process. \n \nAyana Lage is a digital marketing specialist\, freelance writer and lifestyle blogger based in Tampa\, Florida. She graduated from the University of Florida with highest honors in 2015 and previously worked at the Tampa Bay Times and Miami Herald\, as well as women’s millennial website Bustle. She launched her own business\, Lage Creative Company\, in early 2019 and spends her time working with fellow creatives to make their digital dreams come true. When she’s not working\, Ayana is hanging out with her husband Vagner and ranting about unsolved mysteries on Twitter. \nBREAKOUT SESSION: 3 Things You Aren’t Doing on Social Media but Should Be\nCortney Gurr \nCome learn three ways to better manage social media for work or personal projects. These three things will drastically change how you view the world of social media and put you in control of your content! \n \nCortney Gurr is a social media specialist hailing from Boca Raton\, FL. Her social media “sweet spot” is content management and creation. When she isn’t doing it for the gram\, you can find her at the beach\, by the pool\, or at her fave restaurant\, Flanigans. \nBREAKOUT SESSION: Simple Tips for Great Video\nEmily Frias\n \nHere’s your crash course in kicking your videos up a notch. Emily will share simple video capture and equipment tips to improve your media skills or empower you get started.\n \nEmily graduated from the University of Florida in 2004 with a degree in Telecommunication – Production and a minor in Business. She has worked in video production for 15 years and has had the pleasure of working on various projects including documentaries\, national news pieces\, commercials\, TV shows\, short films as well as travel videos in Europe and Asia. She takes great pleasure in all things video production from consulting to full production services through her company\, Blue Denim Media. When she’s not shooting videos\, you can find her in the gym\, kayaking or watching the latest installment of the Marvel movie series. For video tips and tricks\, visit her site: emilyfrias.com \nEvent DetailsDate: Saturday\, June 15\, 2018\nTime: 9am-1pm\nLocation: mad studios \nRegistration
URL:https://hatchcreatives.com/event/june-event/
LOCATION:mad studios\, Suite 1920\, 101 NE 3rd Ave\, Fort Lauderdale\, FL\, 33301\, United States
CATEGORIES:Hatch Monthly
ATTACH;FMTTYPE=image/jpeg:https://hatchcreatives.com/wp-content/uploads/2019/05/junebackground.jpg
ORGANIZER;CN="Hatch Creatives":MAILTO:laura@hatchcreatives.com
END:VEVENT
END:VCALENDAR