BEGIN:VCALENDAR
VERSION:2.0
PRODID:-//Hatch Creatives - ECPv6.15.20//NONSGML v1.0//EN
CALSCALE:GREGORIAN
METHOD:PUBLISH
X-ORIGINAL-URL:https://hatchcreatives.com
X-WR-CALDESC:Events for Hatch Creatives
REFRESH-INTERVAL;VALUE=DURATION:PT1H
X-Robots-Tag:noindex
X-PUBLISHED-TTL:PT1H
BEGIN:VTIMEZONE
TZID:America/New_York
BEGIN:DAYLIGHT
TZOFFSETFROM:-0500
TZOFFSETTO:-0400
TZNAME:EDT
DTSTART:20180311T070000
END:DAYLIGHT
BEGIN:STANDARD
TZOFFSETFROM:-0400
TZOFFSETTO:-0500
TZNAME:EST
DTSTART:20181104T060000
END:STANDARD
BEGIN:DAYLIGHT
TZOFFSETFROM:-0500
TZOFFSETTO:-0400
TZNAME:EDT
DTSTART:20190310T070000
END:DAYLIGHT
BEGIN:STANDARD
TZOFFSETFROM:-0400
TZOFFSETTO:-0500
TZNAME:EST
DTSTART:20191103T060000
END:STANDARD
BEGIN:DAYLIGHT
TZOFFSETFROM:-0500
TZOFFSETTO:-0400
TZNAME:EDT
DTSTART:20200308T070000
END:DAYLIGHT
BEGIN:STANDARD
TZOFFSETFROM:-0400
TZOFFSETTO:-0500
TZNAME:EST
DTSTART:20201101T060000
END:STANDARD
END:VTIMEZONE
BEGIN:VEVENT
DTSTART;TZID=America/New_York:20190701T090000
DTEND;TZID=America/New_York:20190728T130000
DTSTAMP:20260421T144331
CREATED:20190703T192153Z
LAST-MODIFIED:20190729T174528Z
UID:1555-1561971600-1564318800@hatchcreatives.com
SUMMARY:July Hatch Hangouts
DESCRIPTION:Get to know other Hatch gals over brunch or dinner! We’ve set-up some differing times and locations to simply build community\, with no speakers or agendas. \nSign-up for one of our Boca or Fort Lauderdale locations listed below. There’s no cost to register\, but each gal is responsible to cover her own food and drink. Space is limited. \nEvent DetailsSign up for our last monthly location:  \nBrunch at True Food Kitchen | Saturday\, July 27 at 11am\n6000 Glades Rd Unit 1015A\, Boca Raton\, FL 33431 \nRegistration
URL:https://hatchcreatives.com/event/july-hatch-hangouts/
LOCATION:FL\, United States
CATEGORIES:Hatch Monthly
ATTACH;FMTTYPE=image/jpeg:https://hatchcreatives.com/wp-content/uploads/2019/07/watermelonjulyweb.jpg
ORGANIZER;CN="Hatch Creatives":MAILTO:laura@hatchcreatives.com
END:VEVENT
END:VCALENDAR