BEGIN:VCALENDAR
VERSION:2.0
PRODID:-//Hatch Creatives - ECPv6.15.20//NONSGML v1.0//EN
CALSCALE:GREGORIAN
METHOD:PUBLISH
X-WR-CALNAME:Hatch Creatives
X-ORIGINAL-URL:https://hatchcreatives.com
X-WR-CALDESC:Events for Hatch Creatives
REFRESH-INTERVAL;VALUE=DURATION:PT1H
X-Robots-Tag:noindex
X-PUBLISHED-TTL:PT1H
BEGIN:VTIMEZONE
TZID:America/New_York
BEGIN:DAYLIGHT
TZOFFSETFROM:-0500
TZOFFSETTO:-0400
TZNAME:EDT
DTSTART:20200308T070000
END:DAYLIGHT
BEGIN:STANDARD
TZOFFSETFROM:-0400
TZOFFSETTO:-0500
TZNAME:EST
DTSTART:20201101T060000
END:STANDARD
BEGIN:DAYLIGHT
TZOFFSETFROM:-0500
TZOFFSETTO:-0400
TZNAME:EDT
DTSTART:20210314T070000
END:DAYLIGHT
BEGIN:STANDARD
TZOFFSETFROM:-0400
TZOFFSETTO:-0500
TZNAME:EST
DTSTART:20211107T060000
END:STANDARD
BEGIN:DAYLIGHT
TZOFFSETFROM:-0500
TZOFFSETTO:-0400
TZNAME:EDT
DTSTART:20220313T070000
END:DAYLIGHT
BEGIN:STANDARD
TZOFFSETFROM:-0400
TZOFFSETTO:-0500
TZNAME:EST
DTSTART:20221106T060000
END:STANDARD
BEGIN:DAYLIGHT
TZOFFSETFROM:-0500
TZOFFSETTO:-0400
TZNAME:EDT
DTSTART:20230312T070000
END:DAYLIGHT
BEGIN:STANDARD
TZOFFSETFROM:-0400
TZOFFSETTO:-0500
TZNAME:EST
DTSTART:20231105T060000
END:STANDARD
BEGIN:DAYLIGHT
TZOFFSETFROM:-0500
TZOFFSETTO:-0400
TZNAME:EDT
DTSTART:20240310T070000
END:DAYLIGHT
BEGIN:STANDARD
TZOFFSETFROM:-0400
TZOFFSETTO:-0500
TZNAME:EST
DTSTART:20241103T060000
END:STANDARD
BEGIN:DAYLIGHT
TZOFFSETFROM:-0500
TZOFFSETTO:-0400
TZNAME:EDT
DTSTART:20250309T070000
END:DAYLIGHT
BEGIN:STANDARD
TZOFFSETFROM:-0400
TZOFFSETTO:-0500
TZNAME:EST
DTSTART:20251102T060000
END:STANDARD
BEGIN:DAYLIGHT
TZOFFSETFROM:-0500
TZOFFSETTO:-0400
TZNAME:EDT
DTSTART:20260308T070000
END:DAYLIGHT
BEGIN:STANDARD
TZOFFSETFROM:-0400
TZOFFSETTO:-0500
TZNAME:EST
DTSTART:20261101T060000
END:STANDARD
BEGIN:DAYLIGHT
TZOFFSETFROM:-0500
TZOFFSETTO:-0400
TZNAME:EDT
DTSTART:20270314T070000
END:DAYLIGHT
BEGIN:STANDARD
TZOFFSETFROM:-0400
TZOFFSETTO:-0500
TZNAME:EST
DTSTART:20271107T060000
END:STANDARD
END:VTIMEZONE
BEGIN:VEVENT
DTSTART;TZID=America/New_York:20210410T180000
DTEND;TZID=America/New_York:20210410T200000
DTSTAMP:20260422T184244
CREATED:20210322T215712Z
LAST-MODIFIED:20210322T215712Z
UID:2583-1618077600-1618084800@hatchcreatives.com
SUMMARY:April 2021 Hatch Event
DESCRIPTION:Grab a girlfriend and join us for the next Hatch event at the beautiful Kendra Scott store in Mizner Park\, for a great convo on small business networking! \nEnjoy sips and sweets as we hear from our guest speaker\, local esthetician\, Keyla Bronté\, owner of Bronté + Beauty as she shares how connecting with other small business owners helped get her business off the ground\, while at the same time\, building a network of supportive and collaborative women to surround herself with. She’ll also be sharing some skincare tips and take-home goodies for all attendees! \nAs part of the event\, Kendra Scott is offering time to shop in the store\, with 20% of proceeds going to Live Like Bella Childhood Cancer Foundation\, a leader in childhood cancer research and advocacy. \nSpace is limited–make sure to register!  \n––– \nAbout Keyla Bronté: \nMy passion for skincare didn’t begin until I myself struggled with severe Cystic Acne.\nAfter seeing an Esthetician\, seeing how passionate and determined she was to help me\, I was inspired to do the same for others.\n\nPeople can place too much value on an unobtainable quest for flawless skin. However\, I truly believe that understanding why our skin reacts in certain ways and keeping up with your skincare routine does not have to be difficult. My mission is simply to enhance your natural beauty.\nEvent DetailsDate: Saturday\, April 10\, 2021\nTime: 6–8pm\nLocation: Kendra Scott in Mizner Park \nRegistration
URL:https://hatchcreatives.com/event/april-2021/
LOCATION:Kendra Scott Mizner\, 411 Plaza Real\, Boca Raton\, FL\, 33432\, United States
CATEGORIES:Hatch Monthly
ATTACH;FMTTYPE=image/jpeg:https://hatchcreatives.com/wp-content/uploads/2021/03/Hatch-april-web-background.jpg
ORGANIZER;CN="Hatch Creatives":MAILTO:laura@hatchcreatives.com
END:VEVENT
BEGIN:VEVENT
DTSTART;TZID=America/New_York:20210518T183000
DTEND;TZID=America/New_York:20210518T200000
DTSTAMP:20260422T184244
CREATED:20210426T202207Z
LAST-MODIFIED:20210426T202207Z
UID:2634-1621362600-1621368000@hatchcreatives.com
SUMMARY:May 2021 Hatch Event
DESCRIPTION:Looking for a fun evening with some gal pals? Come celebrate the start of summer with a waterfront picnic\, hosted by our friends\, The Little Gatherings and The Grazing Girls. Enjoy a lovely picnic setup with individual charcuterie cups as we talk around the table with other Hatch gals\, and hear from Heather\, Ashley and Lauren\, owners of The Grazing Girls and The Little Gatherings\, share about their business beginnings and success in the midst of Covid. It’ll be an evening of business inspo\, fun and getting to know some new friends! \nSetup is 4 to a table. You may be placed next to a new friend\, so please keep in mind what you’re comfortable with during our current health conditions. Food will be provided individualized. Water will be provided for all as well as ice buckets and glasses if you’d like to bring your own wine! \nSpace is limited to the first 20 gals–make sure to register!  \n––– \nMeet Heather of The Grazing Girls: \nThe Grazing Girls specializes in curating grazing tables\, boards\, boxes as well as charcuterie cups for small and large gathering. Whether it’s an intimate date night at home or a baby shower with your closest friends\, we’ve got you covered! Heather started TGG in January of 2020 and feel so blessed to have had the ability to grown her small business during one of the most difficult years we as a community have had\, thanks to the support of her family\, friends and clients who had turned friends.\n\n\n\n\n\n\n\n\n\n\n\n\n\n\n––– \n\n\nMeet Ashley and Lauren of The Little Gatherings: \nThe Little Gatherings is a female owned\, pop-up picnic company. Owned by sisters Ashley and Lauren\, TLG specializes in boho vibes and attention to detail. The Little Gatherings curates small events from start to finish with creativity and lots of soul!\n\nEvent DetailsDate: Tuesday\, May 18\, 2021\nTime: 6:30–8pm\nLocation: Colee Hammock Park \nRegistration
URL:https://hatchcreatives.com/event/may-2021-hatch-event/
LOCATION:Colee Hammock Park\, 1500 Brickell Drive\, Fort Lauderdale\, FL\, 33301\, United States
CATEGORIES:Hatch Monthly
ATTACH;FMTTYPE=image/jpeg:https://hatchcreatives.com/wp-content/uploads/2021/04/Hatch-may-web.jpg
ORGANIZER;CN="Hatch Creatives":MAILTO:laura@hatchcreatives.com
END:VEVENT
BEGIN:VEVENT
DTSTART;TZID=America/New_York:20210629T183000
DTEND;TZID=America/New_York:20210629T200000
DTSTAMP:20260422T184244
CREATED:20210610T113800Z
LAST-MODIFIED:20210625T134541Z
UID:2768-1624991400-1624996800@hatchcreatives.com
SUMMARY:June 2021 Hatch Event
DESCRIPTION:Introducing the Hatch Three-Part Summer Event Series: Thinkers\, Dreamers and Doers! \nWhether you’re a business owner\, working for a traditional 9 to 5\, or beginning a home project\, you will need to think\, dream and do in order to succeed. \nOur first event on June 29 will focus on the Thinker! Strategic planning\, goal setting\, and time and project management are keys to getting your business or project off the ground successfully. We’ll kick-off the event with a Q&A from our very own Hatch team members\, Jenn and Brendy\, two gals who are strategy and planning professionals! After that\, we’ll have a time for workshopping some of their tips and advice\, so you can directly apply what you’re learning to your life. \nThe event will be held at the beautiful co-working space\, General Provision Downtown! \nEvent Sponsor\, General Provision \n \n––– \nMeet Brendy Garcia:\nBrendy is a project manager with over 10 years of marketing and communications experience. Native to South Florida\, Brendy has worked in both corporate and non-profit settings\, helping streamline processes and build communication strategies. Currently\, she can be found leading communication projects and mapping out timelines for a local non-profit\, and managing (and often writing for) the Hatch Creatives blog. \n\n\n––– \n\n\nMeet Jenn Brown:\nJenn is the Director of Global Partnerships at an international non-profit\, specializing in partnership development and strategic planning\, and consulting. When not cooking or studying Ancient languages\, she lives out her life motto – “Eat the things. Buy the things. Do the things.” \n\nEvent DetailsDate: Tuesday\, June 29\, 2021\nTime: 6:30–8pm\nLocation: General Provision Downtown \nRegistration
URL:https://hatchcreatives.com/event/june-2021-hatch-event/
LOCATION:General Provision\, 300 SW 1st Ave\, Suite 155\, Fort Lauderdale\, 33301
CATEGORIES:Hatch Monthly
ATTACH;FMTTYPE=image/jpeg:https://hatchcreatives.com/wp-content/uploads/2021/06/Hatch-june-event-header.jpg
ORGANIZER;CN="Hatch Creatives":MAILTO:laura@hatchcreatives.com
END:VEVENT
BEGIN:VEVENT
DTSTART;TZID=America/New_York:20210725T170000
DTEND;TZID=America/New_York:20210725T183000
DTSTAMP:20260422T184244
CREATED:20210706T223558Z
LAST-MODIFIED:20210706T223558Z
UID:2827-1627232400-1627237800@hatchcreatives.com
SUMMARY:July 2021 Hatch Event
DESCRIPTION:It’s Part 2 of Our Summer Series: Thinkers\, Dreamers and Doers! \nThis month we’re talking about dreamers and creativity! Now that we covered the topic of defining your dream and setting tangible goals in June\, it’s time to dive into the creative part of the process. We’ll hear from two creative gals from the Hatch team\, Lauren and Laura\, as they break down the creative process and give some practical tips and guidelines for writing and graphic design. We’ll have a time of Q&A and also provide a short workshop time to collaborate with other Hatch girls on how you can improve or implement creativity into your business\, project\, and life. \nThe event is hosted by Kendra Scott\, offering some sips and sweets in their beautiful store in Mizner Park. \n  \n––– \nMeet Lauren Kostoff:\nLauren leads a marketing team at a non-profit and loves getting to propel and produce the kind of content that drives people into action and advocacy. She especially loves getting to work with her team of incredibly talented women who teach her something new every day. Lauren is also the Hatch blog editor\, on the team of blog writers\, and most importantly contributes by encouraging other women to keep creating! \n\n––– \n\n\nMeet Laura Whalley:\nLaura is a graphic design team manager at a local non-profit and founder of Hatch Creatives. As a designer\, Laura loves building the brand of Hatch alongside the other women on the team. Collaborative creativity has been the foundation of Hatch Creatives and she loves getting the opportunity to share design\, community and professional development with any woman who wants to grow! \n\nEvent DetailsDate: Sunday\, July 25\, 2021\nTime: 5–6:30pm\nLocation: Kendra Scott Mizner Park \nRegistration
URL:https://hatchcreatives.com/event/july-2021-hatch-event/
LOCATION:Kendra Scott Mizner\, 411 Plaza Real\, Boca Raton\, FL\, 33432\, United States
CATEGORIES:Hatch Monthly
ATTACH;FMTTYPE=image/jpeg:https://hatchcreatives.com/wp-content/uploads/2021/07/Hatch-july-page-header.jpg
ORGANIZER;CN="Hatch Creatives":MAILTO:laura@hatchcreatives.com
END:VEVENT
BEGIN:VEVENT
DTSTART;TZID=America/New_York:20210831T190000
DTEND;TZID=America/New_York:20210831T210000
DTSTAMP:20260422T184244
CREATED:20210811T012443Z
LAST-MODIFIED:20210811T012443Z
UID:2883-1630436400-1630443600@hatchcreatives.com
SUMMARY:August 2021 Hatch Event
DESCRIPTION:We’re Wrapping Up Our Summer Series: Thinkers\, Dreamers and Doers! \nAugust is all about execution–girls who get the job done! We’ll hear from two talented event planners and go-getters from the Hatch team\, Kelly and Christine\, as they discuss what the practical steps are of bringing new project or event to life\, and what you need to consider when dealing with people (there is SO much\, gals). \nEnjoy cocktails\, wine and beer\, provided by Cyth & Co. and sweet treats from our friend Sugar + Bloom! First drink included in ticket price.  \n––– \nMeet Kelly Henke: \nKelly helps people keep their lives together as an Executive Administrative Assistant and is most definitely a people person\, driven by the needs of others and energized by opportunities to help people find answers and solve problems. \nMy role within the Hatch Creatives team is to help Hatch Gals connect with each other and create lasting partnerships with local entrepreneurs and businesses. I love that women are finding a supportive community through Hatch to celebrate the things that make them who they are. \n\n––– \n\n\nMeet Christine Matousek: \nChristine is a Production Coordinator\, making sure all of our projects are handled with excellence from beginning to end. Her side hustle is CM Event Design an event design company doing all things weddings and parties–helping people accomplish their dream wedding or event. \nMy role as a Hatch Creative member is helping with the design of each month\, from what it looks like\, what topic we choose to focus on\, and scouting for new\, fun locations for our events. \n\nEvent DetailsDate: Tuesday\, August 31\, 2021\nTime: 7–9pm\nLocation: Cyth & Co. \nRegistrationWe're so sorry! This event is now full. Please check back in next month!
URL:https://hatchcreatives.com/event/august-2021-hatch-event/
LOCATION:Cyth & Co\, 3446 NE 12th Ave\, Oakland Park\, 33334
CATEGORIES:Hatch Monthly
ATTACH;FMTTYPE=image/jpeg:https://hatchcreatives.com/wp-content/uploads/2021/08/Hatch-august-web-header.jpg
ORGANIZER;CN="Hatch Creatives":MAILTO:laura@hatchcreatives.com
END:VEVENT
BEGIN:VEVENT
DTSTART;TZID=America/New_York:20210921T173000
DTEND;TZID=America/New_York:20210921T190000
DTSTAMP:20260422T184244
CREATED:20210914T012841Z
LAST-MODIFIED:20210914T125341Z
UID:2910-1632245400-1632250800@hatchcreatives.com
SUMMARY:September 2021 Hatch Event
DESCRIPTION:Hatch Happy Hour! \nGrab a drink and meet some new gal pals at our networking Happy Hour. Event registration is free (drinks not included). See you on the 21st night of September! \nEvent DetailsDate: Tuesday\, September 21\, 2021\nTime: 5:30–7pm\nLocation: Wine Garden \nRegistrationWe're so sorry! This event is now full. Please check back in next month!
URL:https://hatchcreatives.com/event/september-2021-hatch-event/
LOCATION:Wine Garden\, 608 Breakers Ave\, Fort Lauderdale\, FL\, 33304\, United States
CATEGORIES:Hatch Monthly
ATTACH;FMTTYPE=image/jpeg:https://hatchcreatives.com/wp-content/uploads/2021/09/Hatch-september-web-background.jpg
ORGANIZER;CN="Hatch Creatives":MAILTO:laura@hatchcreatives.com
END:VEVENT
BEGIN:VEVENT
DTSTART;TZID=America/New_York:20211112T190000
DTEND;TZID=America/New_York:20211112T203000
DTSTAMP:20260422T184244
CREATED:20211029T004248Z
LAST-MODIFIED:20211029T004505Z
UID:2949-1636743600-1636749000@hatchcreatives.com
SUMMARY:November 2021 Hatch Event
DESCRIPTION:Flowers and Wine on a Friday Night! \nIt’s our last event of the year and we’re kicking off the holiday season with a fall floral arranging workshop! Brooke from Future Florals will be teaching us how to arrange the perfect fall arrangement for your Thanksgiving table. Each attendee will be creating and taking home your own flower arrangement and vase. Small Wine Shop will be offering a selection of their wines and small bites for purchase at the event. \nSpots are limited\, reserve yours today! \nMeet Brooke: \n \nBrooke Sproc is founder and owner of Future Florals. When she is not creating luxury floral installations & arrangements she is homeschooling her 11 yr old son\, Collin. Together they like to go on walks\, ride bikes\, & attend Vous Church together. Brooke knows the best spots in Fort Lauderdale for coffee and cocktails\, so reach out and say hello because she is always happy to make new friends! \nEvent DetailsDate: Friday\, November 12\, 2021\nTime: 7–8:30pm\nLocation: Small Wine Shop \nRegistrationWe're so sorry! This event is now full. Please check back in next month!
URL:https://hatchcreatives.com/event/november-2021-hatch-event/
LOCATION:Small Wine Shop\, 410 N Andrews Ave\, Fort Lauderdale\, 33301
CATEGORIES:Hatch Monthly
ATTACH;FMTTYPE=image/jpeg:https://hatchcreatives.com/wp-content/uploads/2021/10/Hatch-november-web.jpg
ORGANIZER;CN="Hatch Creatives":MAILTO:laura@hatchcreatives.com
END:VEVENT
BEGIN:VEVENT
DTSTART;TZID=America/New_York:20220719T180000
DTEND;TZID=America/New_York:20220719T200000
DTSTAMP:20260422T184244
CREATED:20220627T232717Z
LAST-MODIFIED:20250514T201751Z
UID:3271-1658253600-1658260800@hatchcreatives.com
SUMMARY:July 2022 Hatch Event
DESCRIPTION:It’s summer happy hour time! \nAfter a long day at work (or day of fun\, it is summer after all)\, grab a drink with other Hatch gals for Happy Hour! We’ll be meeting at Small Wine Shop and enjoying their great wine selection and small bites. Grab a friend and come to meet a new one! \nAll ticket sales will be donated to World Central Kitchen\, an organization serving meals to Ukrainian families fleeing their homes and those remaining in the country. \nTicket price does not include cost of food and drink. \nEvent DetailsDate: Tuesday\, July 19\, 2022\nTime: 6–8pm\nLocation: Small Wine Shop \nRegistration\n\n                \n                        First*Last*PhoneEmail*\n                            \n                        Tickets\n					\n					\n						Price:\n						\n					\n					\n				Total\n							$0.00\n							\n						\n          \n            \n            \n            \n            \n            \n            \n            \n            \n            \n            \n            \n            \n            \n        \n                        Δ
URL:https://hatchcreatives.com/event/july-2022-hatch-event/
LOCATION:Small Wine Shop\, 410 N Andrews Ave\, Fort Lauderdale\, 33301
CATEGORIES:Hatch Monthly
ATTACH;FMTTYPE=image/jpeg:https://hatchcreatives.com/wp-content/uploads/2022/06/Hatch-July-Happy-Hour-web.jpg
ORGANIZER;CN="Hatch Creatives":MAILTO:laura@hatchcreatives.com
END:VEVENT
BEGIN:VEVENT
DTSTART;TZID=America/New_York:20250617T190000
DTEND;TZID=America/New_York:20250617T210000
DTSTAMP:20260422T184244
CREATED:20250518T183518Z
LAST-MODIFIED:20250529T005348Z
UID:3804-1750186800-1750194000@hatchcreatives.com
SUMMARY:Hatch Hangouts St. Augustine
DESCRIPTION:  \nHatch Creatives is thrilled to announce the very first\, Hatch Hangouts St. Augustine! If you’re a woman looking to connect with and learn from other creative and entrepreneurial women\, this event is for you. Local artist and business owner Jenna Alexander will be sharing her story and answering all your questions in a Q&A sesh! Enjoy baked goods from local bakery Alms and Fare\, and learn a little more about Hatch Creatives.  \n  \n 
URL:https://hatchcreatives.com/event/hatch-hangouts-st-augustine/
LOCATION:Jenna Fine Art Studio\, 73 San Marco Ave\, St. Augustine\, FL\, 32084\, United States
CATEGORIES:Hatch Monthly
ATTACH;FMTTYPE=image/jpeg:https://hatchcreatives.com/wp-content/uploads/2025/05/STA_FirstEvent_Header.jpg
ORGANIZER;CN="Hatch Creatives":MAILTO:laura@hatchcreatives.com
END:VEVENT
BEGIN:VEVENT
DTSTART;TZID=America/New_York:20250916T190000
DTEND;TZID=America/New_York:20250916T210000
DTSTAMP:20260422T184244
CREATED:20250819T173716Z
LAST-MODIFIED:20250822T212013Z
UID:4152-1758049200-1758056400@hatchcreatives.com
SUMMARY:Hatch Hangouts STA: September
DESCRIPTION:  \nJoin us for a fun and inspiring evening of connection\, conversation\, and creativity at the September Hatch Hangouts event. We’re bringing together an incredible panel of women who are leading\, building thriving businesses\, and making their mark in our community. \nYou’ll walk away with fresh ideas\, practical advice\, and the kind of encouragement that comes from being in a room full of women like you. Whether you’re dreaming up your next big idea or knee-deep in building it\, this is your chance to connect with like-minded creatives\, ask your burning questions to our panel\, and leave feeling empowered to take your next step. \nAll attendees will receive a custom tote bag designed by Jenna Alexander. Jenna is also opening her studio to shop with 25% of proceeds going to the Betty Griffin Center. \nEnjoy speciality coffee drinks provided by Break Coffee Cart\, treats from Alms + Fare\, and live music by Erica VonOhlin. \n  \nMeet the Panelist \nJanice Nguyen Hudgins Owner & Operator of Little Miss Ha Vietnamese Cuisine \n  \nKelly FranklinCEO of Betty Griffin Center \n  \nKiara NicoletteRealtor at Endless Summer Realty \n  \nLiz SnyderOwner & Operator of Spinster Abbott’s \n  \n 
URL:https://hatchcreatives.com/event/hatch-hangouts-sta-september/
LOCATION:Jenna Fine Art Studio\, 73 San Marco Ave\, St. Augustine\, FL\, 32084\, United States
CATEGORIES:Hatch Monthly
ATTACH;FMTTYPE=image/jpeg:https://hatchcreatives.com/wp-content/uploads/2025/08/sept-event-header.jpg
ORGANIZER;CN="Hatch Creatives":MAILTO:laura@hatchcreatives.com
END:VEVENT
BEGIN:VEVENT
DTSTART;TZID=America/New_York:20260113T190000
DTEND;TZID=America/New_York:20260113T210000
DTSTAMP:20260422T184244
CREATED:20251212T201449Z
LAST-MODIFIED:20251218T144027Z
UID:4396-1768330800-1768338000@hatchcreatives.com
SUMMARY:Hatch Hangouts STA: January 2026
DESCRIPTION:  \nHappy New Year\, Hatch gals! Step into the new year with intention\, beauty\, and community. Join us for an evening designed to inspire your mind\, nurture your creativity\, and connect you with women who are dreaming big in 2026. \nWe’ll begin with an empowering conversation led by Angela Fusco\, a licensed mental health specialist who will guide you in a discussion on starting the year with gratitude\, mental clarity\, and routines that will last. Afterward\, enjoy a build your own bouquet experience at the Wild Pick Social bloom bar cart. \nSip on handcrafted mocktails\, graze on beautifully curated charcuterie\, and settle in to create a collective vision board—a collaborative visual of the dreams\, goals\, and values our community is stepping into this year. \nCome ready to create\, connect\, and cultivate a year of growth alongside women who cheer each other on. We can’t wait to start 2026 with you. \nJenna is also opening her studio to shop and live music will be provided by Erica VonOhlin. \n  \n 
URL:https://hatchcreatives.com/event/hatch-hangouts-sta-january-2026/
LOCATION:Jenna Fine Art Studio\, 73 San Marco Ave\, St. Augustine\, FL\, 32084\, United States
CATEGORIES:Hatch Monthly
ATTACH;FMTTYPE=image/jpeg:https://hatchcreatives.com/wp-content/uploads/2025/12/JanEvent_Header.jpg
ORGANIZER;CN="Hatch Creatives":MAILTO:laura@hatchcreatives.com
END:VEVENT
BEGIN:VEVENT
DTSTART;TZID=America/New_York:20260210T170000
DTEND;TZID=America/New_York:20260210T190000
DTSTAMP:20260422T184244
CREATED:20260120T011642Z
LAST-MODIFIED:20260126T141700Z
UID:4544-1770742800-1770750000@hatchcreatives.com
SUMMARY:Hatch Meet-Up STA: February 2026
DESCRIPTION:  \nHappy Galentine’s Day! Join us at Cache Cache\, a Speakeasy in back of Little Miss Ha Restaurant. \nHatch Meet-Ups are for you if you like to: \n\nConnect with other gals\nShare ideas or collaborate on new ventures\nHangout in beautiful spaces and celebrate female friendship\n\nA cash bar will be available as well as a limited food menu. Grab a girlfriend and come celebrate the beauty of girlhood with us! \n  \n 
URL:https://hatchcreatives.com/event/hatch-meet-up-sta-february-2026/
LOCATION:Cache Cache\, 36 Granada Street\, St. Augustine\, 32084\, United States
CATEGORIES:Hatch Monthly
ATTACH;FMTTYPE=image/jpeg:https://hatchcreatives.com/wp-content/uploads/2026/01/FebEvent_Header.jpg
ORGANIZER;CN="Hatch Creatives":MAILTO:laura@hatchcreatives.com
END:VEVENT
BEGIN:VEVENT
DTSTART;TZID=America/New_York:20260324T170000
DTEND;TZID=America/New_York:20260324T190000
DTSTAMP:20260422T184244
CREATED:20260225T182843Z
LAST-MODIFIED:20260225T182920Z
UID:4664-1774371600-1774378800@hatchcreatives.com
SUMMARY:Hatch Meet-Up STA: March 2026
DESCRIPTION:  \nWe’re hosting an interactive workshop designed specifically for small business owners who want clarity\, momentum\, and community. Through a handful of simple questions and guided partner-sharing\, you’ll walk away encouraged\, supported\, and equipped with practical next steps you can immediately apply to your business. Come ready to connect\, reflect\, and leave with renewed confidence in what you’re building. \nCoffee\, wine and treats will be provided. Midnight Moon Books will also be open to shop! \n  \n 
URL:https://hatchcreatives.com/event/hatch-meet-up-sta-march-2026/
LOCATION:Midnight Moon Books\, 111 King Street\, St. Augustine\, FL\, 32084\, United States
CATEGORIES:Hatch Monthly
ATTACH;FMTTYPE=image/jpeg:https://hatchcreatives.com/wp-content/uploads/2026/02/March_Meetupheader.jpg
ORGANIZER;CN="Hatch Creatives":MAILTO:laura@hatchcreatives.com
END:VEVENT
BEGIN:VEVENT
DTSTART;TZID=America/New_York:20260421T190000
DTEND;TZID=America/New_York:20260421T210000
DTSTAMP:20260422T184244
CREATED:20260325T181211Z
LAST-MODIFIED:20260421T105304Z
UID:4729-1776798000-1776805200@hatchcreatives.com
SUMMARY:Hatch Hangouts STA: April 2026
DESCRIPTION:  \nJoin us for a Hatch Hangout all about the power of collaboration—featuring a conversation with the inspiring women behind Fit Mamas Tribe\, Christina Hendrick and Lauren Giles. Come ready to connect through friend speed-dating\, snap some fun moments at our photo booth hosted by The Social Booth\, and build meaningful relationships with other creative and entrepreneurial women. We’ll also have refreshing smoothies provided by Alms + Fare to keep you fueled. Leave encouraged\, connected\, and reminded that you don’t have to build alone. \nJenna is also opening her studio to shop and live music will be provided by Erica VonOhlin. \n  \n 
URL:https://hatchcreatives.com/event/hatch-hangouts-sta-april-2026/
LOCATION:Jenna Fine Art Studio\, 73 San Marco Ave\, St. Augustine\, FL\, 32084\, United States
CATEGORIES:Hatch Monthly
ATTACH;FMTTYPE=image/jpeg:https://hatchcreatives.com/wp-content/uploads/2026/03/April26_PageHeader.jpg
ORGANIZER;CN="Hatch Creatives":MAILTO:laura@hatchcreatives.com
END:VEVENT
END:VCALENDAR