BEGIN:VCALENDAR
VERSION:2.0
PRODID:-//Hatch Creatives - ECPv6.15.20//NONSGML v1.0//EN
CALSCALE:GREGORIAN
METHOD:PUBLISH
X-WR-CALNAME:Hatch Creatives
X-ORIGINAL-URL:https://hatchcreatives.com
X-WR-CALDESC:Events for Hatch Creatives
REFRESH-INTERVAL;VALUE=DURATION:PT1H
X-Robots-Tag:noindex
X-PUBLISHED-TTL:PT1H
BEGIN:VTIMEZONE
TZID:America/New_York
BEGIN:DAYLIGHT
TZOFFSETFROM:-0500
TZOFFSETTO:-0400
TZNAME:EDT
DTSTART:20170312T070000
END:DAYLIGHT
BEGIN:STANDARD
TZOFFSETFROM:-0400
TZOFFSETTO:-0500
TZNAME:EST
DTSTART:20171105T060000
END:STANDARD
BEGIN:DAYLIGHT
TZOFFSETFROM:-0500
TZOFFSETTO:-0400
TZNAME:EDT
DTSTART:20180311T070000
END:DAYLIGHT
BEGIN:STANDARD
TZOFFSETFROM:-0400
TZOFFSETTO:-0500
TZNAME:EST
DTSTART:20181104T060000
END:STANDARD
BEGIN:DAYLIGHT
TZOFFSETFROM:-0500
TZOFFSETTO:-0400
TZNAME:EDT
DTSTART:20190310T070000
END:DAYLIGHT
BEGIN:STANDARD
TZOFFSETFROM:-0400
TZOFFSETTO:-0500
TZNAME:EST
DTSTART:20191103T060000
END:STANDARD
END:VTIMEZONE
BEGIN:VEVENT
DTSTART;TZID=America/New_York:20180915T100000
DTEND;TZID=America/New_York:20180915T120000
DTSTAMP:20260421T180456
CREATED:20180904T112942Z
LAST-MODIFIED:20190107T163320Z
UID:953-1537005600-1537012800@hatchcreatives.com
SUMMARY:September Event
DESCRIPTION:The Business Clarity Workshop: 7 Pillars to Creating a Core-Aligned Business and Brand\nWith business advice coming from every possible angle\, we know it can be time-consuming and overwhelming to rifle through it all. We all hope ‘the next thing’ will be what brings our vision to fruition. Sometimes it does\, but often times it doesn’t\, and here’s why: You’re not clear. \nWhen you’re not clear about who you are\, what you’re doing\, and what your business needs – it becomes harder to discern what information to take in and where to apply it. Clarity Coach and Strategist\, Tiffany Lanier will help us identify the seven key areas of clarity so you can get back on the road of creating the business you’re craving. \nEvent DetailsDate: September 15\, 2018\nTime: 10am-12pm\nSpeaker: Tiffany Lanier\nLocation: Elan 16Forty Apartment\n \nFurther details will follow registration. \nRegistration
URL:https://hatchcreatives.com/event/september2018/
LOCATION:Elan 16Forty Apartment\, 1700 E Sunrise Blvd\, Fort Lauderdale\, FL\, 33304
CATEGORIES:Hatch Monthly
ATTACH;FMTTYPE=image/jpeg:https://hatchcreatives.com/wp-content/uploads/2018/09/sept2018event.jpg
ORGANIZER;CN="Laura Botu":MAILTO:laura@hatchcreatives.com
END:VEVENT
BEGIN:VEVENT
DTSTART;TZID=America/New_York:20180818T100000
DTEND;TZID=America/New_York:20180818T120000
DTSTAMP:20260421T180456
CREATED:20180802T133906Z
LAST-MODIFIED:20190107T163312Z
UID:889-1534586400-1534593600@hatchcreatives.com
SUMMARY:August Event
DESCRIPTION:Know Yourself\, Treat Yourself: How to Reboot Through Self-Discovery\nCome hear from our speaker as she talks about how understanding yourself leads to meaningful ways of practicing self-care. You will also participate in our DIY essential oils roller and facial scrub stations! \nEvent DetailsDate: August 18\, 2018\nTime: 10am-12pm\nSpeaker: Dr. Samira Y. Garcia\nLocation: Elan 16Forty Apartment\n \nFurther details will follow registration. \nRegistration
URL:https://hatchcreatives.com/event/august2018/
LOCATION:Elan 16Forty Apartment\, 1700 E Sunrise Blvd\, Fort Lauderdale\, FL\, 33304
CATEGORIES:Hatch Monthly
ATTACH;FMTTYPE=image/jpeg:https://hatchcreatives.com/wp-content/uploads/2018/08/Provence.jpg
ORGANIZER;CN="Laura Botu":MAILTO:laura@hatchcreatives.com
END:VEVENT
END:VCALENDAR